BEGIN:VCALENDAR
VERSION:2.0
PRODID:-//Ville de Saint Mihiel - ECPv5.9.0//NONSGML v1.0//EN
CALSCALE:GREGORIAN
METHOD:PUBLISH
X-WR-CALNAME:Ville de Saint Mihiel
X-ORIGINAL-URL:https://saint-mihiel.fr
X-WR-CALDESC:évènements pour Ville de Saint Mihiel
BEGIN:VTIMEZONE
TZID:Europe/Paris
BEGIN:DAYLIGHT
TZOFFSETFROM:+0100
TZOFFSETTO:+0200
TZNAME:CEST
DTSTART:20180325T010000
END:DAYLIGHT
BEGIN:STANDARD
TZOFFSETFROM:+0200
TZOFFSETTO:+0100
TZNAME:CET
DTSTART:20181028T010000
END:STANDARD
END:VTIMEZONE
BEGIN:VEVENT
DTSTART;VALUE=DATE:20180312
DTEND;VALUE=DATE:20180430
DTSTAMP:20260424T213215
CREATED:20180312T094156Z
LAST-MODIFIED:20180312T094505Z
UID:35442-1520812800-1525046399@saint-mihiel.fr
SUMMARY:Exposition "4 saisons"
DESCRIPTION:Jean-Marie LORSON\, peintre pastelliste\, expose ses œuvres à l’Office de Tourisme Cœur de Lorraine jusqu’au 29 avril \n“Quatre saisons”\nInformations au 03 29 89 06 47
URL:https://saint-mihiel.fr/evenement/exposition-4-saisons/
LOCATION:Office de Tourisme Cœur de Lorraine\, rue du Palais de Justice\, SAINT-MIHIEL\, 55300\, France
END:VEVENT
BEGIN:VEVENT
DTSTART;TZID=Europe/Paris:20180317T100000
DTEND;TZID=Europe/Paris:20180317T170000
DTSTAMP:20260424T213215
CREATED:20180215T130703Z
LAST-MODIFIED:20180215T130703Z
UID:35263-1521280800-1521306000@saint-mihiel.fr
SUMMARY:Séance dédicace
DESCRIPTION:Samedi 17 mars de 10h à 17h\nPrésentation par Redpaln\, illustratrice\, de son ouvrage «Vous êtes extraordinaire»\nMaison de la Presse\nTél. 03 29 90 23 25
URL:https://saint-mihiel.fr/evenement/seance-dedicace/
LOCATION:Presse Saint-Mihiel\, 7 rue Notre Dame\, SAINT-MIHIEL\, France
END:VEVENT
BEGIN:VEVENT
DTSTART;TZID=Europe/Paris:20180317T143000
DTEND;TZID=Europe/Paris:20180317T163000
DTSTAMP:20260424T213215
CREATED:20180215T131136Z
LAST-MODIFIED:20180215T131136Z
UID:35265-1521297000-1521304200@saint-mihiel.fr
SUMMARY:Conférence
DESCRIPTION:Samedi 17 mars à 14h30\nConférence salle Mangeot organisée par les Amis de la Bibliothèque bénédictine\net animée Hélène BULARD :\n«La fin de la période napoléonienne et les occupations de 1814 et 1815-1818»\nInformations au 03 29 89 02 87 – entrée libre
URL:https://saint-mihiel.fr/evenement/conference/
LOCATION:Salle Mangeot\, Rue du Palais de Justice\, SAINT-MIHIEL
END:VEVENT
END:VCALENDAR