BEGIN:VCALENDAR
VERSION:2.0
PRODID:-//Ville de Saint Mihiel - ECPv5.9.0//NONSGML v1.0//EN
CALSCALE:GREGORIAN
METHOD:PUBLISH
X-WR-CALNAME:Ville de Saint Mihiel
X-ORIGINAL-URL:https://saint-mihiel.fr
X-WR-CALDESC:évènements pour Ville de Saint Mihiel
BEGIN:VTIMEZONE
TZID:Europe/Paris
BEGIN:DAYLIGHT
TZOFFSETFROM:+0100
TZOFFSETTO:+0200
TZNAME:CEST
DTSTART:20180325T010000
END:DAYLIGHT
BEGIN:STANDARD
TZOFFSETFROM:+0200
TZOFFSETTO:+0100
TZNAME:CET
DTSTART:20181028T010000
END:STANDARD
END:VTIMEZONE
BEGIN:VEVENT
DTSTART;VALUE=DATE:20180312
DTEND;VALUE=DATE:20180430
DTSTAMP:20260424T195240
CREATED:20180312T094156Z
LAST-MODIFIED:20180312T094505Z
UID:35442-1520812800-1525046399@saint-mihiel.fr
SUMMARY:Exposition "4 saisons"
DESCRIPTION:Jean-Marie LORSON\, peintre pastelliste\, expose ses œuvres à l’Office de Tourisme Cœur de Lorraine jusqu’au 29 avril \n“Quatre saisons”\nInformations au 03 29 89 06 47
URL:https://saint-mihiel.fr/evenement/exposition-4-saisons/
LOCATION:Office de Tourisme Cœur de Lorraine\, rue du Palais de Justice\, SAINT-MIHIEL\, 55300\, France
END:VEVENT
BEGIN:VEVENT
DTSTART;VALUE=DATE:20180318
DTEND;VALUE=DATE:20180319
DTSTAMP:20260424T195240
CREATED:20180308T124840Z
LAST-MODIFIED:20180308T124859Z
UID:35387-1521331200-1521417599@saint-mihiel.fr
SUMMARY:Bourse aux vêtements
DESCRIPTION:Bourse aux vêtements d’enfants de 0 à 12 ans printemps/été \norganisée par l’Association des Familles \nSalle Capitulaire de l’Hôtel de Ville : \ndépôt le samedi 17 mars de 9h à 11h et de 14h à 17h \nvente le dimanche 18 mars de 9h à 12h et de 14h à 17h \nretrait le lundi 19 mars de 13h30 à 15h \nRenseignements au 03 29 89 00 34 ou 03 29 90 26 25
URL:https://saint-mihiel.fr/evenement/bourse-aux-vetements/
LOCATION:Salle Capitulaire\, place des Moines\, SAINT-MIHIEL
ORGANIZER;CN="Association%20des%20familles":MAILTO:associationdesfamilles.stmihiel@laposte.net
END:VEVENT
END:VCALENDAR