BEGIN:VCALENDAR
VERSION:2.0
PRODID:-//Ville de Saint Mihiel - ECPv5.9.0//NONSGML v1.0//EN
CALSCALE:GREGORIAN
METHOD:PUBLISH
X-WR-CALNAME:Ville de Saint Mihiel
X-ORIGINAL-URL:https://saint-mihiel.fr
X-WR-CALDESC:évènements pour Ville de Saint Mihiel
BEGIN:VTIMEZONE
TZID:Europe/Paris
BEGIN:DAYLIGHT
TZOFFSETFROM:+0100
TZOFFSETTO:+0200
TZNAME:CEST
DTSTART:20180325T010000
END:DAYLIGHT
BEGIN:STANDARD
TZOFFSETFROM:+0200
TZOFFSETTO:+0100
TZNAME:CET
DTSTART:20181028T010000
END:STANDARD
BEGIN:DAYLIGHT
TZOFFSETFROM:+0100
TZOFFSETTO:+0200
TZNAME:CEST
DTSTART:20190331T010000
END:DAYLIGHT
BEGIN:STANDARD
TZOFFSETFROM:+0200
TZOFFSETTO:+0100
TZNAME:CET
DTSTART:20191027T010000
END:STANDARD
END:VTIMEZONE
BEGIN:VEVENT
DTSTART;VALUE=DATE:20180331
DTEND;VALUE=DATE:20181126
DTSTAMP:20260422T222623
CREATED:20180215T132000Z
LAST-MODIFIED:20180405T070801Z
UID:35273-1522454400-1543190399@saint-mihiel.fr
SUMMARY:Exposition à la Bibliothèque bénédictine
DESCRIPTION:Exposition\n«L’autre : Français ?\, Allemand ?\, Américain ?»\nBibliothèque bénédictine\nInfos et tarifs au 03 29 89 06 47
URL:https://saint-mihiel.fr/evenement/exposition-a-la-bibliotheque-benedictine/
LOCATION:Bibliothèque bénédictine\, Rue du Palais de Justice\, SAINT-MIHIEL\, France
END:VEVENT
BEGIN:VEVENT
DTSTART;VALUE=DATE:20180401
DTEND;VALUE=DATE:20190601
DTSTAMP:20260422T222623
CREATED:20180405T072604Z
LAST-MODIFIED:20190130T080340Z
UID:35630-1522540800-1559347199@saint-mihiel.fr
SUMMARY:Exposition "Le saillant de Saint-Mihiel vu par les artistes"
DESCRIPTION:A découvrir dans la salle d’exposition temporaire du Musée d’art sacré \nUne fresque pour ne pas oublier “Et vous les femmes…. ?”\nJean-Marie LORSON\nPeintre pastelliste \nL’œuvre des soldats sculpteurs allemands autour du Saillant de Saint-Mihiel\nDenis MELLINGER\nSculpteur \nHoraires et tarifs auprès de l’office de tourisme Cœur de Lorraine : 03 29 89 06 47
URL:https://saint-mihiel.fr/evenement/exposition-le-saillant-de-saint-mihiel-vu-par-les-artistes/
LOCATION:Musée d’art sacré\, Rue du Palais de Justice\, SAINT-MIHIEL\, 55300\, France
END:VEVENT
BEGIN:VEVENT
DTSTART;VALUE=DATE:20180406
DTEND;VALUE=DATE:20181215
DTSTAMP:20260422T222623
CREATED:20180215T132800Z
LAST-MODIFIED:20180215T132800Z
UID:35276-1522972800-1544831999@saint-mihiel.fr
SUMMARY:Exposition Croix processionnelles
DESCRIPTION:À partir du 6 avril\nExposition au Musée d’art sacré\n«Les croix processionnelles françaises de la Renaissance à la Révolution»\nTarifs et informations au 03 29 89 06 47
URL:https://saint-mihiel.fr/evenement/exposition-croix-processionnelles/
LOCATION:Musée d’art sacré\, Rue du Palais de Justice\, SAINT-MIHIEL\, 55300\, France
END:VEVENT
BEGIN:VEVENT
DTSTART;VALUE=DATE:20180602
DTEND;VALUE=DATE:20180603
DTSTAMP:20260422T222623
CREATED:20180320T083942Z
LAST-MODIFIED:20180320T083942Z
UID:35517-1527897600-1527983999@saint-mihiel.fr
SUMMARY:Cycle de projections cinématographiques BIAL
DESCRIPTION:“Impressions fortes“ – Cycle de projections cinématographiques\n\n\n\n\nCes projections porteront sur les grands maîtres de l’estampe universelle les samedis à 17h du 1er au 30 juin Salle Mangeot (Office du Tourisme) selon le programme suivant \n2 juin :\nJacques CALLOT (la tentation de St Antoine)\nSébastien LECLERC (l’académie des sciences) \n16 juin :\nAlbrecht DÜRER (le chevalier\, la mort & le diable)\nClaude MELLAN (la sainte Face ou l’œil d’or) \n23 juin :\nREMBRANDT (les trois croix)\nPIRANESE (les Prisons imaginaires) \n30 juin :\nFrancisco GOYA (le sommeil de la raison engendre des monstres)\nTOULOUSE LAUTREC (lithographe) \nEn savoir +
URL:https://saint-mihiel.fr/evenement/cycle-de-projections-cinematographiques-bial/
LOCATION:Salle Mangeot\, Rue du Palais de Justice\, SAINT-MIHIEL
END:VEVENT
BEGIN:VEVENT
DTSTART;VALUE=DATE:20180602
DTEND;VALUE=DATE:20180603
DTSTAMP:20260422T222623
CREATED:20180430T142642Z
LAST-MODIFIED:20180430T142642Z
UID:35710-1527897600-1527983999@saint-mihiel.fr
SUMMARY:35 ans de Jumelage avec Enkenbach
DESCRIPTION:Célébrations de l’anniversaire du Jumelage de la ville de Saint-Mihiel avec Enkenbach-Alsenborn.
URL:https://saint-mihiel.fr/evenement/35-ans-de-jumelage-avec-enkenbach/
END:VEVENT
BEGIN:VEVENT
DTSTART;VALUE=DATE:20180602
DTEND;VALUE=DATE:20180604
DTSTAMP:20260422T222623
CREATED:20180522T135841Z
LAST-MODIFIED:20180522T135841Z
UID:35797-1527897600-1528070399@saint-mihiel.fr
SUMMARY:Rendez-vous aux jardins
DESCRIPTION:Le jardin Terre de Rêves ouvre ses portes pour les “Rendez-vous aux jardins” les 2 et 3 juin de 10h30 à 18h \n17 route de Woinville\nContact : 03 29 90 26 99
URL:https://saint-mihiel.fr/evenement/rendez-vous-aux-jardins/
END:VEVENT
BEGIN:VEVENT
DTSTART;VALUE=DATE:20180602
DTEND;VALUE=DATE:20180604
DTSTAMP:20260422T222623
CREATED:20180523T063902Z
LAST-MODIFIED:20180523T063902Z
UID:35806-1527897600-1528070399@saint-mihiel.fr
SUMMARY:Églises ouvertes
DESCRIPTION:2 et 3 juin 2018 : l’abbatiale Saint-Michel et la collégiale Saint-Étienne seront ouvertes dans le cadre des “journées des églises ouvertes”
URL:https://saint-mihiel.fr/evenement/eglises-ouvertes/
LOCATION:Abbatiale Saint Michel\, place Jean Bérain\, SAINT-MIHIEL
END:VEVENT
BEGIN:VEVENT
DTSTART;TZID=Europe/Paris:20180602T093000
DTEND;TZID=Europe/Paris:20180602T120000
DTSTAMP:20260422T222623
CREATED:20180515T124936Z
LAST-MODIFIED:20180515T125745Z
UID:35762-1527931800-1527940800@saint-mihiel.fr
SUMMARY:Stage de théâtre
DESCRIPTION:L’association Scène de méninges propose des stages de théâtre les 2\, 9 et 16 juin de 9h30 à 12h\n1er étage de l’ancienne Mairie\, rue Raymond Poincaré \nInscription gratuite et obligatoire au 03 29 89 19 73
URL:https://saint-mihiel.fr/evenement/stage-de-theatre/
LOCATION:Ancienne mairie – rue R. Poincaré\, 11 rue Raymond Poincaré\, SAINT-MIHIEL\, 55300\, France
END:VEVENT
BEGIN:VEVENT
DTSTART;TZID=Europe/Paris:20180602T203000
DTEND;TZID=Europe/Paris:20180602T220000
DTSTAMP:20260422T222623
CREATED:20180430T142955Z
LAST-MODIFIED:20180430T142955Z
UID:35713-1527971400-1527976800@saint-mihiel.fr
SUMMARY:Concert APEAC
DESCRIPTION:L’APEAC accueille le Coeur Régional de Lorraine à l’Espace culturel des Avrils le samedi 2 juin à 20h30. \nInformations et tarif au 06 80 68 14 77
URL:https://saint-mihiel.fr/evenement/concert-apeac/
LOCATION:Espace culturel des Avrils\, rue du Général De Gaulle\, Saint-Mihiel\, 55300\, France
END:VEVENT
END:VCALENDAR