BEGIN:VCALENDAR
VERSION:2.0
PRODID:-//Ville de Saint Mihiel - ECPv5.9.0//NONSGML v1.0//EN
CALSCALE:GREGORIAN
METHOD:PUBLISH
X-WR-CALNAME:Ville de Saint Mihiel
X-ORIGINAL-URL:https://saint-mihiel.fr
X-WR-CALDESC:évènements pour Ville de Saint Mihiel
BEGIN:VTIMEZONE
TZID:Europe/Paris
BEGIN:DAYLIGHT
TZOFFSETFROM:+0100
TZOFFSETTO:+0200
TZNAME:CEST
DTSTART:20180325T010000
END:DAYLIGHT
BEGIN:STANDARD
TZOFFSETFROM:+0200
TZOFFSETTO:+0100
TZNAME:CET
DTSTART:20181028T010000
END:STANDARD
BEGIN:DAYLIGHT
TZOFFSETFROM:+0100
TZOFFSETTO:+0200
TZNAME:CEST
DTSTART:20190331T010000
END:DAYLIGHT
BEGIN:STANDARD
TZOFFSETFROM:+0200
TZOFFSETTO:+0100
TZNAME:CET
DTSTART:20191027T010000
END:STANDARD
END:VTIMEZONE
BEGIN:VEVENT
DTSTART;VALUE=DATE:20180331
DTEND;VALUE=DATE:20181126
DTSTAMP:20260422T223215
CREATED:20180215T132000Z
LAST-MODIFIED:20180405T070801Z
UID:35273-1522454400-1543190399@saint-mihiel.fr
SUMMARY:Exposition à la Bibliothèque bénédictine
DESCRIPTION:Exposition\n«L’autre : Français ?\, Allemand ?\, Américain ?»\nBibliothèque bénédictine\nInfos et tarifs au 03 29 89 06 47
URL:https://saint-mihiel.fr/evenement/exposition-a-la-bibliotheque-benedictine/
LOCATION:Bibliothèque bénédictine\, Rue du Palais de Justice\, SAINT-MIHIEL\, France
END:VEVENT
BEGIN:VEVENT
DTSTART;VALUE=DATE:20180401
DTEND;VALUE=DATE:20190601
DTSTAMP:20260422T223215
CREATED:20180405T072604Z
LAST-MODIFIED:20190130T080340Z
UID:35630-1522540800-1559347199@saint-mihiel.fr
SUMMARY:Exposition "Le saillant de Saint-Mihiel vu par les artistes"
DESCRIPTION:A découvrir dans la salle d’exposition temporaire du Musée d’art sacré \nUne fresque pour ne pas oublier “Et vous les femmes…. ?”\nJean-Marie LORSON\nPeintre pastelliste \nL’œuvre des soldats sculpteurs allemands autour du Saillant de Saint-Mihiel\nDenis MELLINGER\nSculpteur \nHoraires et tarifs auprès de l’office de tourisme Cœur de Lorraine : 03 29 89 06 47
URL:https://saint-mihiel.fr/evenement/exposition-le-saillant-de-saint-mihiel-vu-par-les-artistes/
LOCATION:Musée d’art sacré\, Rue du Palais de Justice\, SAINT-MIHIEL\, 55300\, France
END:VEVENT
BEGIN:VEVENT
DTSTART;VALUE=DATE:20180406
DTEND;VALUE=DATE:20181215
DTSTAMP:20260422T223215
CREATED:20180215T132800Z
LAST-MODIFIED:20180215T132800Z
UID:35276-1522972800-1544831999@saint-mihiel.fr
SUMMARY:Exposition Croix processionnelles
DESCRIPTION:À partir du 6 avril\nExposition au Musée d’art sacré\n«Les croix processionnelles françaises de la Renaissance à la Révolution»\nTarifs et informations au 03 29 89 06 47
URL:https://saint-mihiel.fr/evenement/exposition-croix-processionnelles/
LOCATION:Musée d’art sacré\, Rue du Palais de Justice\, SAINT-MIHIEL\, 55300\, France
END:VEVENT
BEGIN:VEVENT
DTSTART;VALUE=DATE:20180623
DTEND;VALUE=DATE:20180624
DTSTAMP:20260422T223215
CREATED:20180320T084413Z
LAST-MODIFIED:20180320T084413Z
UID:35524-1529712000-1529798399@saint-mihiel.fr
SUMMARY:Cycle de projections cinématographiques - BIAL
DESCRIPTION:“Impressions fortes“ – Cycle de projections cinématographiques\n\n\n\n\nCes projections porteront sur les grands maîtres de l’estampe universelle les samedis à 17h du 1er au 30 juin Salle Mangeot (Office du Tourisme) selon le programme suivant \n2 juin :\nJacques CALLOT (la tentation de St Antoine)\nSébastien LECLERC (l’académie des sciences) \n16 juin :\nAlbrecht DÜRER (le chevalier\, la mort & le diable)\nClaude MELLAN (la sainte Face ou l’œil d’or) \n23 juin :\nREMBRANDT (les trois croix)\nPIRANESE (les Prisons imaginaires) \n30 juin :\nFrancisco GOYA (le sommeil de la raison engendre des monstres)\nTOULOUSE LAUTREC (lithographe) \nEn savoir +
URL:https://saint-mihiel.fr/evenement/cycle-de-projections-cinematographiques-bial-4/
LOCATION:Salle Mangeot\, Rue du Palais de Justice\, SAINT-MIHIEL
END:VEVENT
BEGIN:VEVENT
DTSTART;TZID=Europe/Paris:20180623T090000
DTEND;TZID=Europe/Paris:20180623T120000
DTSTAMP:20260422T223215
CREATED:20180430T150837Z
LAST-MODIFIED:20180430T150837Z
UID:35737-1529744400-1529755200@saint-mihiel.fr
SUMMARY:Séance dédicaces avec Marc Henry
DESCRIPTION:Samedi 23 Juin à partir de 9H : Marc Henry en dédicace avec son génial livre à paraître “Les campagnes de Basile” qui aborde la première guerre mondiale en suivant Basile\, un jeune soldat de son tout début d’engagement jusqu’à la fin (plus après guerre) avec des images superbes\, cartes postales\, lettres\, cartes etc. \nInformations au 03 29 90 23 25
URL:https://saint-mihiel.fr/evenement/seance-dedicaces-avec-marc-henry/
LOCATION:Presse Saint-Mihiel\, 7 rue Notre Dame\, SAINT-MIHIEL\, France
END:VEVENT
BEGIN:VEVENT
DTSTART;TZID=Europe/Paris:20180623T140000
DTEND;TZID=Europe/Paris:20180623T180000
DTSTAMP:20260422T223215
CREATED:20180430T144953Z
LAST-MODIFIED:20180430T145023Z
UID:35725-1529762400-1529776800@saint-mihiel.fr
SUMMARY:Portes ouvertes à l'école d'art
DESCRIPTION:L’école d’art de Saint-Mihiel ouvrira ses portes aux visiteurs les 23 et 24 juin de 14h à 18h à l’Ancienne mairie\, rue Raymond Poincaré. \nInformations au 03 29 89 06 28
URL:https://saint-mihiel.fr/evenement/portes-ouvertes-a-lecole-dart/
END:VEVENT
BEGIN:VEVENT
DTSTART;TZID=Europe/Paris:20180623T200000
DTEND;TZID=Europe/Paris:20180623T220000
DTSTAMP:20260422T223215
CREATED:20180517T063828Z
LAST-MODIFIED:20180517T063828Z
UID:35791-1529784000-1529791200@saint-mihiel.fr
SUMMARY:Spectacle de danse
DESCRIPTION:Spectacle de danse proposé par l’Association Eviedanse \n22 et 23 juin à 20h à l’espace culturel des Avrils \nentrée 8 €
URL:https://saint-mihiel.fr/evenement/spectacle-de-danse-2/
LOCATION:Espace culturel des Avrils\, rue du Général De Gaulle\, Saint-Mihiel\, 55300\, France
END:VEVENT
BEGIN:VEVENT
DTSTART;TZID=Europe/Paris:20180623T210000
DTEND;TZID=Europe/Paris:20180623T223000
DTSTAMP:20260422T223215
CREATED:20180427T114943Z
LAST-MODIFIED:20180427T121945Z
UID:35690-1529787600-1529793000@saint-mihiel.fr
SUMMARY:Concert "LA QUERELLE DES TE DEUM"
DESCRIPTION:Concert dans le cadre de la 4ème édition du Festival Baroque de Saint-Mihiel \nSamedi 23 juin à 21h\nAbbatiale Saint-Michel \nTarif : 10€\, gratuit pour les moins de 12 ans (prévente à l’Office de Tourisme Cœur de Lorraine) \n 
URL:https://saint-mihiel.fr/evenement/concert-la-querelle-des-te-deum/
LOCATION:Abbatiale Saint Michel\, place Jean Bérain\, SAINT-MIHIEL
END:VEVENT
END:VCALENDAR