BEGIN:VCALENDAR
VERSION:2.0
PRODID:-//Ville de Saint Mihiel - ECPv5.9.0//NONSGML v1.0//EN
CALSCALE:GREGORIAN
METHOD:PUBLISH
X-WR-CALNAME:Ville de Saint Mihiel
X-ORIGINAL-URL:https://saint-mihiel.fr
X-WR-CALDESC:évènements pour Ville de Saint Mihiel
BEGIN:VTIMEZONE
TZID:Europe/Paris
BEGIN:DAYLIGHT
TZOFFSETFROM:+0100
TZOFFSETTO:+0200
TZNAME:CEST
DTSTART:20180325T010000
END:DAYLIGHT
BEGIN:STANDARD
TZOFFSETFROM:+0200
TZOFFSETTO:+0100
TZNAME:CET
DTSTART:20181028T010000
END:STANDARD
BEGIN:DAYLIGHT
TZOFFSETFROM:+0100
TZOFFSETTO:+0200
TZNAME:CEST
DTSTART:20190331T010000
END:DAYLIGHT
BEGIN:STANDARD
TZOFFSETFROM:+0200
TZOFFSETTO:+0100
TZNAME:CET
DTSTART:20191027T010000
END:STANDARD
END:VTIMEZONE
BEGIN:VEVENT
DTSTART;VALUE=DATE:20180401
DTEND;VALUE=DATE:20190601
DTSTAMP:20260422T140439
CREATED:20180405T072604Z
LAST-MODIFIED:20190130T080340Z
UID:35630-1522540800-1559347199@saint-mihiel.fr
SUMMARY:Exposition "Le saillant de Saint-Mihiel vu par les artistes"
DESCRIPTION:A découvrir dans la salle d’exposition temporaire du Musée d’art sacré \nUne fresque pour ne pas oublier “Et vous les femmes…. ?”\nJean-Marie LORSON\nPeintre pastelliste \nL’œuvre des soldats sculpteurs allemands autour du Saillant de Saint-Mihiel\nDenis MELLINGER\nSculpteur \nHoraires et tarifs auprès de l’office de tourisme Cœur de Lorraine : 03 29 89 06 47
URL:https://saint-mihiel.fr/evenement/exposition-le-saillant-de-saint-mihiel-vu-par-les-artistes/
LOCATION:Musée d’art sacré\, Rue du Palais de Justice\, SAINT-MIHIEL\, 55300\, France
END:VEVENT
BEGIN:VEVENT
DTSTART;VALUE=DATE:20180406
DTEND;VALUE=DATE:20181215
DTSTAMP:20260422T140439
CREATED:20180215T132800Z
LAST-MODIFIED:20180215T132800Z
UID:35276-1522972800-1544831999@saint-mihiel.fr
SUMMARY:Exposition Croix processionnelles
DESCRIPTION:À partir du 6 avril\nExposition au Musée d’art sacré\n«Les croix processionnelles françaises de la Renaissance à la Révolution»\nTarifs et informations au 03 29 89 06 47
URL:https://saint-mihiel.fr/evenement/exposition-croix-processionnelles/
LOCATION:Musée d’art sacré\, Rue du Palais de Justice\, SAINT-MIHIEL\, 55300\, France
END:VEVENT
BEGIN:VEVENT
DTSTART;TZID=Europe/Paris:20181201T080000
DTEND;TZID=Europe/Paris:20181231T170000
DTSTAMP:20260422T140439
CREATED:20181106T131322Z
LAST-MODIFIED:20181106T131322Z
UID:36131-1543651200-1546275600@saint-mihiel.fr
SUMMARY:Semaines commerciales
DESCRIPTION:Organisées par l’UCIA \nAnimations les samedis – Commerces ouverts les 9\, 16 et 23 décembre
URL:https://saint-mihiel.fr/evenement/semaines-commerciales/
LOCATION:Centre-ville
ORGANIZER;CN="UCIA":MAILTO:ucia.stmihiel@orange.fr
END:VEVENT
BEGIN:VEVENT
DTSTART;TZID=Europe/Paris:20181207T143000
DTEND;TZID=Europe/Paris:20181207T161000
DTSTAMP:20260422T140439
CREATED:20181115T104628Z
LAST-MODIFIED:20181115T104628Z
UID:36194-1544193000-1544199000@saint-mihiel.fr
SUMMARY:Cinéma "Un homme pressé"
DESCRIPTION:Séance du 7 décembre à 14h30 salle Mangeot : Un homme pressé\nEn savoir +
URL:https://saint-mihiel.fr/evenement/cinema-un-homme-presse/
LOCATION:Salle Mangeot\, Rue du Palais de Justice\, SAINT-MIHIEL
END:VEVENT
BEGIN:VEVENT
DTSTART;TZID=Europe/Paris:20181207T180000
DTEND;TZID=Europe/Paris:20181207T193500
DTSTAMP:20260422T140439
CREATED:20181115T104801Z
LAST-MODIFIED:20181115T104801Z
UID:36196-1544205600-1544211300@saint-mihiel.fr
SUMMARY:Cinéma : "Yéti & compagnie"
DESCRIPTION:Séance du 7 décembre à 18h salle Mangeot : Yéti & compagnie \nEn savoir +
URL:https://saint-mihiel.fr/evenement/cinema-yeti-compagnie/
LOCATION:Salle Mangeot\, Rue du Palais de Justice\, SAINT-MIHIEL
END:VEVENT
BEGIN:VEVENT
DTSTART;TZID=Europe/Paris:20181207T200000
DTEND;TZID=Europe/Paris:20181207T213000
DTSTAMP:20260422T140439
CREATED:20181115T104932Z
LAST-MODIFIED:20181115T104941Z
UID:36198-1544212800-1544218200@saint-mihiel.fr
SUMMARY:Cinéma : "Voyez comme on danse"
DESCRIPTION:Séance du 7 décembre à 20h salle Mangeot : Voyez comme on danse \nEn savoir +
URL:https://saint-mihiel.fr/evenement/cinema-voyez-comme-on-danse/
LOCATION:Salle Mangeot\, Rue du Palais de Justice\, SAINT-MIHIEL
END:VEVENT
BEGIN:VEVENT
DTSTART;TZID=Europe/Paris:20181207T200000
DTEND;TZID=Europe/Paris:20181207T220000
DTSTAMP:20260422T140439
CREATED:20181129T101029Z
LAST-MODIFIED:20181129T101029Z
UID:36262-1544212800-1544220000@saint-mihiel.fr
SUMMARY:Conseil municipal
DESCRIPTION:prochaine séance du conseil municipal le vendredi 7 décembre à 20h
URL:https://saint-mihiel.fr/evenement/conseil-municipal-8/
LOCATION:Salle du Conseil Municipal\, Mairie (entrée par la Bibliothèque bénédictine)\, SAINT-MIHIEL
END:VEVENT
END:VCALENDAR