BEGIN:VCALENDAR
VERSION:2.0
PRODID:-//Ville de Saint Mihiel - ECPv5.9.0//NONSGML v1.0//EN
CALSCALE:GREGORIAN
METHOD:PUBLISH
X-WR-CALNAME:Ville de Saint Mihiel
X-ORIGINAL-URL:https://saint-mihiel.fr
X-WR-CALDESC:évènements pour Ville de Saint Mihiel
BEGIN:VTIMEZONE
TZID:Europe/Paris
BEGIN:DAYLIGHT
TZOFFSETFROM:+0100
TZOFFSETTO:+0200
TZNAME:CEST
DTSTART:20180325T010000
END:DAYLIGHT
BEGIN:STANDARD
TZOFFSETFROM:+0200
TZOFFSETTO:+0100
TZNAME:CET
DTSTART:20181028T010000
END:STANDARD
BEGIN:DAYLIGHT
TZOFFSETFROM:+0100
TZOFFSETTO:+0200
TZNAME:CEST
DTSTART:20190331T010000
END:DAYLIGHT
BEGIN:STANDARD
TZOFFSETFROM:+0200
TZOFFSETTO:+0100
TZNAME:CET
DTSTART:20191027T010000
END:STANDARD
END:VTIMEZONE
BEGIN:VEVENT
DTSTART;VALUE=DATE:20180401
DTEND;VALUE=DATE:20190601
DTSTAMP:20260423T014302
CREATED:20180405T072604Z
LAST-MODIFIED:20190130T080340Z
UID:35630-1522540800-1559347199@saint-mihiel.fr
SUMMARY:Exposition "Le saillant de Saint-Mihiel vu par les artistes"
DESCRIPTION:A découvrir dans la salle d’exposition temporaire du Musée d’art sacré \nUne fresque pour ne pas oublier “Et vous les femmes…. ?”\nJean-Marie LORSON\nPeintre pastelliste \nL’œuvre des soldats sculpteurs allemands autour du Saillant de Saint-Mihiel\nDenis MELLINGER\nSculpteur \nHoraires et tarifs auprès de l’office de tourisme Cœur de Lorraine : 03 29 89 06 47
URL:https://saint-mihiel.fr/evenement/exposition-le-saillant-de-saint-mihiel-vu-par-les-artistes/
LOCATION:Musée d’art sacré\, Rue du Palais de Justice\, SAINT-MIHIEL\, 55300\, France
END:VEVENT
BEGIN:VEVENT
DTSTART;TZID=Europe/Paris:20181201T080000
DTEND;TZID=Europe/Paris:20181231T170000
DTSTAMP:20260423T014302
CREATED:20181106T131322Z
LAST-MODIFIED:20181106T131322Z
UID:36131-1543651200-1546275600@saint-mihiel.fr
SUMMARY:Semaines commerciales
DESCRIPTION:Organisées par l’UCIA \nAnimations les samedis – Commerces ouverts les 9\, 16 et 23 décembre
URL:https://saint-mihiel.fr/evenement/semaines-commerciales/
LOCATION:Centre-ville
ORGANIZER;CN="UCIA":MAILTO:ucia.stmihiel@orange.fr
END:VEVENT
BEGIN:VEVENT
DTSTART;VALUE=DATE:20181215
DTEND;VALUE=DATE:20181217
DTSTAMP:20260423T014302
CREATED:20181122T080017Z
LAST-MODIFIED:20181122T080017Z
UID:36226-1544832000-1545004799@saint-mihiel.fr
SUMMARY:Village de Noël
DESCRIPTION:15 et 16 décembre place du Saulcy : Village  de Noël avec Zentao Events \nDe 9h30 à 19h00 samedi 15 décembre et de 10h00 à 18h00 dimanche 16 décembre. \nGrande parade aux flambeaux dimanche 16 décembre à partir de 15h45. \nPlus d’infos au 06 33 53 95 90 \nVoir l’affiche
URL:https://saint-mihiel.fr/evenement/village-de-noel-3/
LOCATION:Place du Saulcy\, Place du Saulcy\, SAINT-MIHIEL
ORGANIZER;CN="Zentao%20Events":MAILTO:zentao55@gmail.com
END:VEVENT
END:VCALENDAR