BEGIN:VCALENDAR
VERSION:2.0
PRODID:-//Ville de Saint Mihiel - ECPv5.9.0//NONSGML v1.0//EN
CALSCALE:GREGORIAN
METHOD:PUBLISH
X-WR-CALNAME:Ville de Saint Mihiel
X-ORIGINAL-URL:https://saint-mihiel.fr
X-WR-CALDESC:évènements pour Ville de Saint Mihiel
BEGIN:VTIMEZONE
TZID:Europe/Paris
BEGIN:DAYLIGHT
TZOFFSETFROM:+0100
TZOFFSETTO:+0200
TZNAME:CEST
DTSTART:20180325T010000
END:DAYLIGHT
BEGIN:STANDARD
TZOFFSETFROM:+0200
TZOFFSETTO:+0100
TZNAME:CET
DTSTART:20181028T010000
END:STANDARD
BEGIN:DAYLIGHT
TZOFFSETFROM:+0100
TZOFFSETTO:+0200
TZNAME:CEST
DTSTART:20190331T010000
END:DAYLIGHT
BEGIN:STANDARD
TZOFFSETFROM:+0200
TZOFFSETTO:+0100
TZNAME:CET
DTSTART:20191027T010000
END:STANDARD
END:VTIMEZONE
BEGIN:VEVENT
DTSTART;VALUE=DATE:20180401
DTEND;VALUE=DATE:20190601
DTSTAMP:20260422T234623
CREATED:20180405T072604Z
LAST-MODIFIED:20190130T080340Z
UID:35630-1522540800-1559347199@saint-mihiel.fr
SUMMARY:Exposition "Le saillant de Saint-Mihiel vu par les artistes"
DESCRIPTION:A découvrir dans la salle d’exposition temporaire du Musée d’art sacré \nUne fresque pour ne pas oublier “Et vous les femmes…. ?”\nJean-Marie LORSON\nPeintre pastelliste \nL’œuvre des soldats sculpteurs allemands autour du Saillant de Saint-Mihiel\nDenis MELLINGER\nSculpteur \nHoraires et tarifs auprès de l’office de tourisme Cœur de Lorraine : 03 29 89 06 47
URL:https://saint-mihiel.fr/evenement/exposition-le-saillant-de-saint-mihiel-vu-par-les-artistes/
LOCATION:Musée d’art sacré\, Rue du Palais de Justice\, SAINT-MIHIEL\, 55300\, France
END:VEVENT
BEGIN:VEVENT
DTSTART;VALUE=DATE:20190502
DTEND;VALUE=DATE:20190630
DTSTAMP:20260422T234623
CREATED:20190227T140136Z
LAST-MODIFIED:20190425T113327Z
UID:36497-1556755200-1561852799@saint-mihiel.fr
SUMMARY:Exposition "De la paille à l'objet" de Violette Belluzzi
DESCRIPTION:Du 2 mai au 29 juin 2019\nHall de l’Office de Tourisme\ntél : 03 29 89 06 47
URL:https://saint-mihiel.fr/evenement/exposition-de-la-paille-a-lobjet-de-violette-bulluzzi/
LOCATION:Office de Tourisme Cœur de Lorraine\, rue du Palais de Justice\, SAINT-MIHIEL\, 55300\, France
END:VEVENT
BEGIN:VEVENT
DTSTART;TZID=Europe/Paris:20190504T080000
DTEND;TZID=Europe/Paris:20191130T170000
DTSTAMP:20260422T234623
CREATED:20190430T091751Z
LAST-MODIFIED:20190430T093019Z
UID:36645-1556956800-1575133200@saint-mihiel.fr
SUMMARY:Exposition Bibliothèque bénédictine
DESCRIPTION:Exposition ” Les protestantismes en Lorraine et Barrois\, XVI-XVIIIèmes siècles” \nBibliothèque bénédictine – horaires et tarifs au 03 29 89 06 47
URL:https://saint-mihiel.fr/evenement/exposition-bibliotheque-benedictine/
END:VEVENT
BEGIN:VEVENT
DTSTART;VALUE=DATE:20190531
DTEND;VALUE=DATE:20190601
DTSTAMP:20260422T234623
CREATED:20190503T114452Z
LAST-MODIFIED:20190503T114452Z
UID:36670-1559260800-1559347199@saint-mihiel.fr
SUMMARY:CINÉMA "Le parc des merveilles"
DESCRIPTION:Séance du 31 mai à 18h – Salle Mangeot \nEn savoir +
URL:https://saint-mihiel.fr/evenement/cinema-le-parc-des-merveilles/
LOCATION:Salle Mangeot\, Rue du Palais de Justice\, SAINT-MIHIEL
END:VEVENT
BEGIN:VEVENT
DTSTART;TZID=Europe/Paris:20190531T143000
DTEND;TZID=Europe/Paris:20190531T164500
DTSTAMP:20260422T234623
CREATED:20190503T115743Z
LAST-MODIFIED:20190503T115743Z
UID:36672-1559313000-1559321100@saint-mihiel.fr
SUMMARY:CINÉMA "Nous finirons ensemble"
DESCRIPTION:Séance du 31 mai à 14h30 – Salle Mangeot \nEn savoir +
URL:https://saint-mihiel.fr/evenement/cinema-nous-finirons-ensemble/
LOCATION:Salle Mangeot\, Rue du Palais de Justice\, SAINT-MIHIEL
END:VEVENT
END:VCALENDAR