BEGIN:VCALENDAR
VERSION:2.0
PRODID:-//Ville de Saint Mihiel - ECPv5.9.0//NONSGML v1.0//EN
CALSCALE:GREGORIAN
METHOD:PUBLISH
X-WR-CALNAME:Ville de Saint Mihiel
X-ORIGINAL-URL:https://saint-mihiel.fr
X-WR-CALDESC:évènements pour Ville de Saint Mihiel
BEGIN:VTIMEZONE
TZID:Europe/Paris
BEGIN:DAYLIGHT
TZOFFSETFROM:+0100
TZOFFSETTO:+0200
TZNAME:CEST
DTSTART:20190331T010000
END:DAYLIGHT
BEGIN:STANDARD
TZOFFSETFROM:+0200
TZOFFSETTO:+0100
TZNAME:CET
DTSTART:20191027T010000
END:STANDARD
END:VTIMEZONE
BEGIN:VEVENT
DTSTART;TZID=Europe/Paris:20190504T080000
DTEND;TZID=Europe/Paris:20191130T170000
DTSTAMP:20260420T230714
CREATED:20190430T091751Z
LAST-MODIFIED:20190430T093019Z
UID:36645-1556956800-1575133200@saint-mihiel.fr
SUMMARY:Exposition Bibliothèque bénédictine
DESCRIPTION:Exposition ” Les protestantismes en Lorraine et Barrois\, XVI-XVIIIèmes siècles” \nBibliothèque bénédictine – horaires et tarifs au 03 29 89 06 47
URL:https://saint-mihiel.fr/evenement/exposition-bibliotheque-benedictine/
END:VEVENT
BEGIN:VEVENT
DTSTART;VALUE=DATE:20190628
DTEND;VALUE=DATE:20191216
DTSTAMP:20260420T230714
CREATED:20190528T083709Z
LAST-MODIFIED:20190528T083709Z
UID:36747-1561680000-1576454399@saint-mihiel.fr
SUMMARY:Exposition "Des protestantismes... des patrimoines... dans le Grand Est"
DESCRIPTION:A découvrir dans la salle d’exposition temporaire du Musée d’art sacré du 28 juin au 15 décembre 2019 \nHoraires et tarifs auprès de l’Office de Tourisme Cœur de Lorraine : 03 29 89 06 47
URL:https://saint-mihiel.fr/evenement/exposition-des-protestantismes-des-patrimoines-dans-le-grand-est/
LOCATION:Musée d’art sacré\, Rue du Palais de Justice\, SAINT-MIHIEL\, 55300\, France
END:VEVENT
BEGIN:VEVENT
DTSTART;VALUE=DATE:20191001
DTEND;VALUE=DATE:20191101
DTSTAMP:20260420T230714
CREATED:20191007T114431Z
LAST-MODIFIED:20191007T115845Z
UID:37087-1569888000-1572566399@saint-mihiel.fr
SUMMARY:Octobre Rose
DESCRIPTION:OCTOBRE ROSE \nMois de sensibilisation pour le cancer du sein : la statue de la Place Bailleux est habillée aux couleurs d’Octobre Rose. \nRendez-vous le samedi 12 octobre 2019 à 10h30 au marché couvert pour une représentation de Zumba.
URL:https://saint-mihiel.fr/evenement/octobre-rose-2/
END:VEVENT
BEGIN:VEVENT
DTSTART;TZID=Europe/Paris:20191010T203000
DTEND;TZID=Europe/Paris:20191010T214500
DTSTAMP:20260420T230714
CREATED:20191003T064513Z
LAST-MODIFIED:20191003T064513Z
UID:37083-1570739400-1570743900@saint-mihiel.fr
SUMMARY:Conférence "Le département de la Meuse au lendemain de la Grande Guerre"
DESCRIPTION:Conférence animée par Jean-Luc Demandre\nEn savoir +
URL:https://saint-mihiel.fr/evenement/conference-le-departement-de-la-meuse-au-lendemain-de-la-grande-guerre/
LOCATION:Salle Mangeot\, Rue du Palais de Justice\, SAINT-MIHIEL
END:VEVENT
BEGIN:VEVENT
DTSTART;TZID=Europe/Paris:20191010T203000
DTEND;TZID=Europe/Paris:20191010T220000
DTSTAMP:20260420T230714
CREATED:20191007T121655Z
LAST-MODIFIED:20191007T145256Z
UID:37096-1570739400-1570744800@saint-mihiel.fr
SUMMARY:Conférence de Jean-Luc DEMANDRE
DESCRIPTION:La ville de Saint-Mihiel vous présente une conférence de Jean-Luc DEMANDRE sur le département de la Meuse au lendemain de la Grande Guerre : \njeudi 10 octobre 2019 à 20h30 à la salle Mangeot. \nEntrée libre. \n 
URL:https://saint-mihiel.fr/evenement/conference-de-jean-luc-demandre/
LOCATION:Salle Mangeot\, Rue du Palais de Justice\, SAINT-MIHIEL
END:VEVENT
END:VCALENDAR