BEGIN:VCALENDAR
VERSION:2.0
PRODID:-//Ville de Saint Mihiel - ECPv5.9.0//NONSGML v1.0//EN
CALSCALE:GREGORIAN
METHOD:PUBLISH
X-WR-CALNAME:Ville de Saint Mihiel
X-ORIGINAL-URL:https://saint-mihiel.fr
X-WR-CALDESC:évènements pour Ville de Saint Mihiel
BEGIN:VTIMEZONE
TZID:Europe/Paris
BEGIN:DAYLIGHT
TZOFFSETFROM:+0100
TZOFFSETTO:+0200
TZNAME:CEST
DTSTART:20210328T010000
END:DAYLIGHT
BEGIN:STANDARD
TZOFFSETFROM:+0200
TZOFFSETTO:+0100
TZNAME:CET
DTSTART:20211031T010000
END:STANDARD
END:VTIMEZONE
BEGIN:VEVENT
DTSTART;VALUE=DATE:20211102
DTEND;VALUE=DATE:20211222
DTSTAMP:20260424T232851
CREATED:20211021T065111Z
LAST-MODIFIED:20211021T065111Z
UID:42146-1635811200-1640131199@saint-mihiel.fr
SUMMARY:Exposition "Rétrospective"
DESCRIPTION:Toiles de Françoise Piquard \nDu 2 novembre au 21 décembre \nHall de l’Office de Tourisme\nTél. 03 29 89 06 47
URL:https://saint-mihiel.fr/evenement/exposition-retrospective/
LOCATION:Office de Tourisme Cœur de Lorraine\, rue du Palais de Justice\, SAINT-MIHIEL\, 55300\, France
END:VEVENT
BEGIN:VEVENT
DTSTART;VALUE=DATE:20211120
DTEND;VALUE=DATE:20211123
DTSTAMP:20260424T232851
CREATED:20211112T100755Z
LAST-MODIFIED:20211112T100807Z
UID:42194-1637366400-1637625599@saint-mihiel.fr
SUMMARY:Bourse aux jouets et décorations de Noël
DESCRIPTION:Salle capitulaire :  Vente dimanche 21 novembre de 9h à 16h\nDépôt : Samedi 20 novembre 2021 (9h à 12h et 14h à 17h)\nRetrait : Lundi 22 novembre 2021 (13h30-15h) \nRenseignements : Madame GELABERT : 03 29 89 00 34\nMadame Jullien: 03 29 90 26 25
URL:https://saint-mihiel.fr/evenement/bourse-aux-jouets-et-decorations-de-noel/
LOCATION:Salle Capitulaire\, place des Moines\, SAINT-MIHIEL
ORGANIZER;CN="Association%20des%20familles":MAILTO:associationdesfamilles.stmihiel@laposte.net
END:VEVENT
BEGIN:VEVENT
DTSTART;VALUE=DATE:20211120
DTEND;VALUE=DATE:20211212
DTSTAMP:20260424T232851
CREATED:20211112T125228Z
LAST-MODIFIED:20211112T135512Z
UID:42200-1637366400-1639267199@saint-mihiel.fr
SUMMARY:Expo photos Homo Détritus
DESCRIPTION:Homo Detritus\n\n\nStands et animations samedi 20 novembre\n\n\nde 10h à 12h30 au Marché couvert\n\n\nExpo à découvrir jusqu’au 11 décembre
URL:https://saint-mihiel.fr/evenement/expo-photos-homo-detritus/
LOCATION:Marché couvert\, Place du Saulcy\, SAINT-MIHIEL
END:VEVENT
END:VCALENDAR