BEGIN:VCALENDAR
VERSION:2.0
PRODID:-//Ville de Saint Mihiel - ECPv5.9.0//NONSGML v1.0//EN
CALSCALE:GREGORIAN
METHOD:PUBLISH
X-WR-CALNAME:Ville de Saint Mihiel
X-ORIGINAL-URL:https://saint-mihiel.fr
X-WR-CALDESC:évènements pour Ville de Saint Mihiel
BEGIN:VTIMEZONE
TZID:Europe/Paris
BEGIN:DAYLIGHT
TZOFFSETFROM:+0100
TZOFFSETTO:+0200
TZNAME:CEST
DTSTART:20180325T010000
END:DAYLIGHT
BEGIN:STANDARD
TZOFFSETFROM:+0200
TZOFFSETTO:+0100
TZNAME:CET
DTSTART:20181028T010000
END:STANDARD
END:VTIMEZONE
BEGIN:VEVENT
DTSTART;TZID=Europe/Paris:20180426T140000
DTEND;TZID=Europe/Paris:20180426T160000
DTSTAMP:20260424T200518
CREATED:20180405T071801Z
LAST-MODIFIED:20180405T071801Z
UID:35626-1524751200-1524758400@saint-mihiel.fr
SUMMARY:Atelier "Correspondances"
DESCRIPTION:GRATUIT – Inscription obligatoire en mairie 03 29 89 97 89 \nJeudi 26 avril de 14h à 16h \nAtelier « CORRESPONDANCES » animé par Sidonie HOLLARD – création d’un petit carnet sur le thème de 14/18 avec collage\, peinture et écritures mêlées\nAtelier ouvert à tous (à partir de 8 ans)
URL:https://saint-mihiel.fr/evenement/atelier-correspondances/
LOCATION:Musée d’art sacré\, Rue du Palais de Justice\, SAINT-MIHIEL\, 55300\, France
END:VEVENT
END:VCALENDAR