BEGIN:VCALENDAR
VERSION:2.0
PRODID:-//Ville de Saint Mihiel - ECPv5.9.0//NONSGML v1.0//EN
CALSCALE:GREGORIAN
METHOD:PUBLISH
X-WR-CALNAME:Ville de Saint Mihiel
X-ORIGINAL-URL:https://saint-mihiel.fr
X-WR-CALDESC:évènements pour Ville de Saint Mihiel
BEGIN:VTIMEZONE
TZID:Europe/Paris
BEGIN:DAYLIGHT
TZOFFSETFROM:+0100
TZOFFSETTO:+0200
TZNAME:CEST
DTSTART:20180325T010000
END:DAYLIGHT
BEGIN:STANDARD
TZOFFSETFROM:+0200
TZOFFSETTO:+0100
TZNAME:CET
DTSTART:20181028T010000
END:STANDARD
END:VTIMEZONE
BEGIN:VEVENT
DTSTART;VALUE=DATE:20181117
DTEND;VALUE=DATE:20181118
DTSTAMP:20260424T152952
CREATED:20181106T104937Z
LAST-MODIFIED:20181106T105131Z
UID:36121-1542412800-1542499199@saint-mihiel.fr
SUMMARY:Atelier "Jeux de société"
DESCRIPTION:Avec Peggy Guettman et le magasin Tavernia de Verdun à la Maison de la Presse de 9h à 12h et de 14h à 17h
URL:https://saint-mihiel.fr/evenement/atelier-jeux-de-societe/
LOCATION:Presse Saint-Mihiel\, 7 rue Notre Dame\, SAINT-MIHIEL\, France
END:VEVENT
END:VCALENDAR