BEGIN:VCALENDAR
VERSION:2.0
PRODID:-//Ville de Saint Mihiel - ECPv5.9.0//NONSGML v1.0//EN
CALSCALE:GREGORIAN
METHOD:PUBLISH
X-WR-CALNAME:Ville de Saint Mihiel
X-ORIGINAL-URL:https://saint-mihiel.fr
X-WR-CALDESC:évènements pour Ville de Saint Mihiel
BEGIN:VTIMEZONE
TZID:Europe/Paris
BEGIN:DAYLIGHT
TZOFFSETFROM:+0100
TZOFFSETTO:+0200
TZNAME:CEST
DTSTART:20210328T010000
END:DAYLIGHT
BEGIN:STANDARD
TZOFFSETFROM:+0200
TZOFFSETTO:+0100
TZNAME:CET
DTSTART:20211031T010000
END:STANDARD
END:VTIMEZONE
BEGIN:VEVENT
DTSTART;TZID=Europe/Paris:20210727T140000
DTEND;TZID=Europe/Paris:20210727T160000
DTSTAMP:20260424T112736
CREATED:20210630T075347Z
LAST-MODIFIED:20210630T075347Z
UID:41415-1627394400-1627401600@saint-mihiel.fr
SUMMARY:Atelier vannerie d'osier
DESCRIPTION:Atelier vannerie d’osier au musée\, à partir de 7 ans. L’entrée est gratuite. Sur réservation au 03 29 89 97 89
URL:https://saint-mihiel.fr/evenement/atelier-vannerie-dosier/
LOCATION:Musée d’art sacré\, Rue du Palais de Justice\, SAINT-MIHIEL\, 55300\, France
END:VEVENT
END:VCALENDAR