BEGIN:VCALENDAR
VERSION:2.0
PRODID:-//Ville de Saint Mihiel - ECPv5.9.0//NONSGML v1.0//EN
CALSCALE:GREGORIAN
METHOD:PUBLISH
X-WR-CALNAME:Ville de Saint Mihiel
X-ORIGINAL-URL:https://saint-mihiel.fr
X-WR-CALDESC:évènements pour Ville de Saint Mihiel
BEGIN:VTIMEZONE
TZID:Europe/Paris
BEGIN:DAYLIGHT
TZOFFSETFROM:+0100
TZOFFSETTO:+0200
TZNAME:CEST
DTSTART:20260329T010000
END:DAYLIGHT
BEGIN:STANDARD
TZOFFSETFROM:+0200
TZOFFSETTO:+0100
TZNAME:CET
DTSTART:20261025T010000
END:STANDARD
END:VTIMEZONE
BEGIN:VEVENT
DTSTART;TZID=Europe/Paris:20260315T170000
DTEND;TZID=Europe/Paris:20260315T185000
DTSTAMP:20260424T191239
CREATED:20260205T100437Z
LAST-MODIFIED:20260205T104823Z
UID:48806-1773594000-1773600600@saint-mihiel.fr
SUMMARY:CINE REGARDS | Un monde fragile et merveilleux
DESCRIPTION:En savoir + 
URL:https://saint-mihiel.fr/evenement/cine-regards-un-monde-fragile-et-merveilleux/
END:VEVENT
END:VCALENDAR