BEGIN:VCALENDAR
VERSION:2.0
PRODID:-//Ville de Saint Mihiel - ECPv5.9.0//NONSGML v1.0//EN
CALSCALE:GREGORIAN
METHOD:PUBLISH
X-WR-CALNAME:Ville de Saint Mihiel
X-ORIGINAL-URL:https://saint-mihiel.fr
X-WR-CALDESC:évènements pour Ville de Saint Mihiel
BEGIN:VTIMEZONE
TZID:Europe/Paris
BEGIN:DAYLIGHT
TZOFFSETFROM:+0100
TZOFFSETTO:+0200
TZNAME:CEST
DTSTART:20210328T010000
END:DAYLIGHT
BEGIN:STANDARD
TZOFFSETFROM:+0200
TZOFFSETTO:+0100
TZNAME:CET
DTSTART:20211031T010000
END:STANDARD
END:VTIMEZONE
BEGIN:VEVENT
DTSTART;TZID=Europe/Paris:20210611T143000
DTEND;TZID=Europe/Paris:20210611T160000
DTSTAMP:20260424T173252
CREATED:20210520T124132Z
LAST-MODIFIED:20210520T124132Z
UID:39615-1623421800-1623427200@saint-mihiel.fr
SUMMARY:Cinéma "Adieu les Cons"
DESCRIPTION:Séance de cinéma salle Mangeot le 11 juin à 14h30 : Adieu les Cons \n+ d’infos
URL:https://saint-mihiel.fr/evenement/cinema-adieu-les-cons/
LOCATION:Salle Mangeot\, Rue du Palais de Justice\, SAINT-MIHIEL
END:VEVENT
END:VCALENDAR