BEGIN:VCALENDAR
VERSION:2.0
PRODID:-//Ville de Saint Mihiel - ECPv5.9.0//NONSGML v1.0//EN
CALSCALE:GREGORIAN
METHOD:PUBLISH
X-WR-CALNAME:Ville de Saint Mihiel
X-ORIGINAL-URL:https://saint-mihiel.fr
X-WR-CALDESC:évènements pour Ville de Saint Mihiel
BEGIN:VTIMEZONE
TZID:Europe/Paris
BEGIN:DAYLIGHT
TZOFFSETFROM:+0100
TZOFFSETTO:+0200
TZNAME:CEST
DTSTART:20170326T010000
END:DAYLIGHT
BEGIN:STANDARD
TZOFFSETFROM:+0200
TZOFFSETTO:+0100
TZNAME:CET
DTSTART:20171029T010000
END:STANDARD
END:VTIMEZONE
BEGIN:VEVENT
DTSTART;TZID=Europe/Paris:20171117T203000
DTEND;TZID=Europe/Paris:20171117T223000
DTSTAMP:20260424T140732
CREATED:20171109T094858Z
LAST-MODIFIED:20171109T095323Z
UID:34985-1510950600-1510957800@saint-mihiel.fr
SUMMARY:conférence-débat
DESCRIPTION:Denis Mellinger\, sculpteur animera une conférence-débat sur l’œuvre des soldats sculpteurs allemands autour du Saillant de Saint-MIhiel \nEntrée libre
URL:https://saint-mihiel.fr/evenement/conference-debat/
LOCATION:Salle Mangeot\, Rue du Palais de Justice\, SAINT-MIHIEL
END:VEVENT
END:VCALENDAR