BEGIN:VCALENDAR
VERSION:2.0
PRODID:-//Ville de Saint Mihiel - ECPv5.9.0//NONSGML v1.0//EN
CALSCALE:GREGORIAN
METHOD:PUBLISH
X-WR-CALNAME:Ville de Saint Mihiel
X-ORIGINAL-URL:https://saint-mihiel.fr
X-WR-CALDESC:évènements pour Ville de Saint Mihiel
BEGIN:VTIMEZONE
TZID:Europe/Paris
BEGIN:DAYLIGHT
TZOFFSETFROM:+0100
TZOFFSETTO:+0200
TZNAME:CEST
DTSTART:20180325T010000
END:DAYLIGHT
BEGIN:STANDARD
TZOFFSETFROM:+0200
TZOFFSETTO:+0100
TZNAME:CET
DTSTART:20181028T010000
END:STANDARD
END:VTIMEZONE
BEGIN:VEVENT
DTSTART;TZID=Europe/Paris:20180227T200000
DTEND;TZID=Europe/Paris:20180227T220000
DTSTAMP:20260424T182913
CREATED:20171211T102258Z
LAST-MODIFIED:20180226T100241Z
UID:35080-1519761600-1519768800@saint-mihiel.fr
SUMMARY:Conseil municipal
DESCRIPTION:Séance du conseil municipal le mardi 27 février 2018 à 20h
URL:https://saint-mihiel.fr/evenement/conseil-municipal-20/
LOCATION:Salle du Conseil Municipal\, Mairie (entrée par la Bibliothèque bénédictine)\, SAINT-MIHIEL
END:VEVENT
END:VCALENDAR