BEGIN:VCALENDAR
VERSION:2.0
PRODID:-//Ville de Saint Mihiel - ECPv5.9.0//NONSGML v1.0//EN
CALSCALE:GREGORIAN
METHOD:PUBLISH
X-WR-CALNAME:Ville de Saint Mihiel
X-ORIGINAL-URL:https://saint-mihiel.fr
X-WR-CALDESC:évènements pour Ville de Saint Mihiel
BEGIN:VTIMEZONE
TZID:Europe/Paris
BEGIN:DAYLIGHT
TZOFFSETFROM:+0100
TZOFFSETTO:+0200
TZNAME:CEST
DTSTART:20250330T010000
END:DAYLIGHT
BEGIN:STANDARD
TZOFFSETFROM:+0200
TZOFFSETTO:+0100
TZNAME:CET
DTSTART:20251026T010000
END:STANDARD
END:VTIMEZONE
BEGIN:VEVENT
DTSTART;TZID=Europe/Paris:20251217T100000
DTEND;TZID=Europe/Paris:20251217T173000
DTSTAMP:20260425T023700
CREATED:20251217T104247Z
LAST-MODIFIED:20251217T104731Z
UID:48623-1765965600-1765992600@saint-mihiel.fr
SUMMARY:Créations artisanales en bois à la Presse Saint-Mihiel
DESCRIPTION:
URL:https://saint-mihiel.fr/evenement/creations-artisanales-en-bois-a-la-presse-saint-mihiel/
END:VEVENT
END:VCALENDAR