BEGIN:VCALENDAR
VERSION:2.0
PRODID:-//Ville de Saint Mihiel - ECPv5.9.0//NONSGML v1.0//EN
CALSCALE:GREGORIAN
METHOD:PUBLISH
X-WR-CALNAME:Ville de Saint Mihiel
X-ORIGINAL-URL:https://saint-mihiel.fr
X-WR-CALDESC:évènements pour Ville de Saint Mihiel
BEGIN:VTIMEZONE
TZID:Europe/Paris
BEGIN:DAYLIGHT
TZOFFSETFROM:+0100
TZOFFSETTO:+0200
TZNAME:CEST
DTSTART:20240331T010000
END:DAYLIGHT
BEGIN:STANDARD
TZOFFSETFROM:+0200
TZOFFSETTO:+0100
TZNAME:CET
DTSTART:20241027T010000
END:STANDARD
END:VTIMEZONE
BEGIN:VEVENT
DTSTART;VALUE=DATE:20241011
DTEND;VALUE=DATE:20241012
DTSTAMP:20260424T160412
CREATED:20240925T084252Z
LAST-MODIFIED:20240930T134740Z
UID:46092-1728604800-1728691199@saint-mihiel.fr
SUMMARY:Date limite d'inscription au centre de loisirs
DESCRIPTION:En savoir + : https://saint-mihiel.fr/centres-de-loisirs-pole-ados/ \n\nTélécharger (PDF\, 2.23Mo)
URL:https://saint-mihiel.fr/evenement/date-limite-dinscription-au-centre-de-loisirs/
END:VEVENT
END:VCALENDAR