BEGIN:VCALENDAR
VERSION:2.0
PRODID:-//Ville de Saint Mihiel - ECPv5.9.0//NONSGML v1.0//EN
CALSCALE:GREGORIAN
METHOD:PUBLISH
X-WR-CALNAME:Ville de Saint Mihiel
X-ORIGINAL-URL:https://saint-mihiel.fr
X-WR-CALDESC:évènements pour Ville de Saint Mihiel
BEGIN:VTIMEZONE
TZID:Europe/Paris
BEGIN:DAYLIGHT
TZOFFSETFROM:+0100
TZOFFSETTO:+0200
TZNAME:CEST
DTSTART:20250330T010000
END:DAYLIGHT
BEGIN:STANDARD
TZOFFSETFROM:+0200
TZOFFSETTO:+0100
TZNAME:CET
DTSTART:20251026T010000
END:STANDARD
END:VTIMEZONE
BEGIN:VEVENT
DTSTART;VALUE=DATE:20251214
DTEND;VALUE=DATE:20251215
DTSTAMP:20260424T234754
CREATED:20251103T125300Z
LAST-MODIFIED:20251103T141140Z
UID:48367-1765670400-1765756799@saint-mihiel.fr
SUMMARY:"Dossier 137" - Séance Ciné Regards
DESCRIPTION:Dimanche 14 décembre à 17h\, salle Mangeot \nEn savoir +
URL:https://saint-mihiel.fr/evenement/dossier-137-seance-cine-regards/
END:VEVENT
END:VCALENDAR