BEGIN:VCALENDAR
VERSION:2.0
PRODID:-//Ville de Saint Mihiel - ECPv5.9.0//NONSGML v1.0//EN
CALSCALE:GREGORIAN
METHOD:PUBLISH
X-WR-CALNAME:Ville de Saint Mihiel
X-ORIGINAL-URL:https://saint-mihiel.fr
X-WR-CALDESC:évènements pour Ville de Saint Mihiel
BEGIN:VTIMEZONE
TZID:Europe/Paris
BEGIN:DAYLIGHT
TZOFFSETFROM:+0100
TZOFFSETTO:+0200
TZNAME:CEST
DTSTART:20200329T010000
END:DAYLIGHT
BEGIN:STANDARD
TZOFFSETFROM:+0200
TZOFFSETTO:+0100
TZNAME:CET
DTSTART:20201025T010000
END:STANDARD
END:VTIMEZONE
BEGIN:VEVENT
DTSTART;VALUE=DATE:20200611
DTEND;VALUE=DATE:20200701
DTSTAMP:20260424T172627
CREATED:20200611T085344Z
LAST-MODIFIED:20200611T113137Z
UID:37972-1591833600-1593561599@saint-mihiel.fr
SUMMARY:Exposition
DESCRIPTION:Jusqu’au 30 juin \n“Variations” Exposition des œuvres de Nuruyati Salm à l’Office de Tourisme Cœur de Lorraine \nTél. 03 29 89 06 47 \nVoir l’affiche
URL:https://saint-mihiel.fr/evenement/exposition/
LOCATION:Office de Tourisme Cœur de Lorraine\, rue du Palais de Justice\, SAINT-MIHIEL\, 55300\, France
END:VEVENT
END:VCALENDAR