BEGIN:VCALENDAR
VERSION:2.0
PRODID:-//Ville de Saint Mihiel - ECPv5.9.0//NONSGML v1.0//EN
CALSCALE:GREGORIAN
METHOD:PUBLISH
X-WR-CALNAME:Ville de Saint Mihiel
X-ORIGINAL-URL:https://saint-mihiel.fr
X-WR-CALDESC:évènements pour Ville de Saint Mihiel
BEGIN:VTIMEZONE
TZID:Europe/Paris
BEGIN:DAYLIGHT
TZOFFSETFROM:+0100
TZOFFSETTO:+0200
TZNAME:CEST
DTSTART:20250330T010000
END:DAYLIGHT
BEGIN:STANDARD
TZOFFSETFROM:+0200
TZOFFSETTO:+0100
TZNAME:CET
DTSTART:20251026T010000
END:STANDARD
END:VTIMEZONE
BEGIN:VEVENT
DTSTART;TZID=Europe/Paris:20250627T190000
DTEND;TZID=Europe/Paris:20250627T200000
DTSTAMP:20260425T213839
CREATED:20250509T083741Z
LAST-MODIFIED:20250520T140802Z
UID:47258-1751050800-1751054400@saint-mihiel.fr
SUMMARY:"Inertie" - Spectacle circassien
DESCRIPTION:Vendredi 27 juin à 19h\nInertie – Spectacle circassien avec Transversales\nPlace du Saulcy (marché couvert selon météo) | Gratuit \nUne toupie géante ? Une sculpture ? Mise en mouvement par les deux artistes de cirque de la Compagnie Underclouds\, l’œuvre du plasticien Ulysse Lacoste nous emporte avec Inertie dans un tournoiement entre performance et installation. \nDiscussion avec les artistes à l’issue de la représentation
URL:https://saint-mihiel.fr/evenement/inertie-spectacle-circassien/
END:VEVENT
END:VCALENDAR