BEGIN:VCALENDAR
VERSION:2.0
PRODID:-//Ville de Saint Mihiel - ECPv5.9.0//NONSGML v1.0//EN
CALSCALE:GREGORIAN
METHOD:PUBLISH
X-WR-CALNAME:Ville de Saint Mihiel
X-ORIGINAL-URL:https://saint-mihiel.fr
X-WR-CALDESC:évènements pour Ville de Saint Mihiel
BEGIN:VTIMEZONE
TZID:Europe/Paris
BEGIN:DAYLIGHT
TZOFFSETFROM:+0100
TZOFFSETTO:+0200
TZNAME:CEST
DTSTART:20260329T010000
END:DAYLIGHT
BEGIN:STANDARD
TZOFFSETFROM:+0200
TZOFFSETTO:+0100
TZNAME:CET
DTSTART:20261025T010000
END:STANDARD
END:VTIMEZONE
BEGIN:VEVENT
DTSTART;VALUE=DATE:20260329
DTEND;VALUE=DATE:20260330
DTSTAMP:20260424T185249
CREATED:20260218T103432Z
LAST-MODIFIED:20260218T103633Z
UID:48879-1774742400-1774828799@saint-mihiel.fr
SUMMARY:Initiation au tango argentin
DESCRIPTION:Une initiation au tango argentin\, organisée par l’association Léo Eugénia Tango et le Lions Club de Saint-Mihiel\, sera proposée l’après-midi du dimanche 29 mars de 14h30 à 17h00 au 1er étage du Gymnase Saint-Michel\, Place des Moines.\nLe cours\, fixé à 15 euros par personne\, sera dispensé par Léo Calvelli et Eugénia Usandivaras\, danseurs et professeurs originaires d’Argentine exerçant leur art dans les villes de Nancy\, Metz et Luxembourg. \nPour tout renseignement\, vous pouvez prendre contact avec le Lions Club de Saint-Mihiel (nathalielegrand955@mail.com). \nPar votre présence à cet évènement\, vous apporterez votre contribution aux diverses œuvres locales du Lions Club de Saint-Mihiel. \n  \n \n 
URL:https://saint-mihiel.fr/evenement/initiation-au-tango-argentin/
END:VEVENT
END:VCALENDAR