BEGIN:VCALENDAR
VERSION:2.0
PRODID:-//Ville de Saint Mihiel - ECPv5.9.0//NONSGML v1.0//EN
CALSCALE:GREGORIAN
METHOD:PUBLISH
X-WR-CALNAME:Ville de Saint Mihiel
X-ORIGINAL-URL:https://saint-mihiel.fr
X-WR-CALDESC:évènements pour Ville de Saint Mihiel
BEGIN:VTIMEZONE
TZID:Europe/Paris
BEGIN:DAYLIGHT
TZOFFSETFROM:+0100
TZOFFSETTO:+0200
TZNAME:CEST
DTSTART:20220327T010000
END:DAYLIGHT
BEGIN:STANDARD
TZOFFSETFROM:+0200
TZOFFSETTO:+0100
TZNAME:CET
DTSTART:20221030T010000
END:STANDARD
END:VTIMEZONE
BEGIN:VEVENT
DTSTART;VALUE=DATE:20221216
DTEND;VALUE=DATE:20221217
DTSTAMP:20260424T180315
CREATED:20221202T144329Z
LAST-MODIFIED:20221202T144329Z
UID:43619-1671148800-1671235199@saint-mihiel.fr
SUMMARY:La Traviata
DESCRIPTION:Vendredi 16 décembre à 19h30 : diffusion de la Traviata de Verdi\nMicro-folie du Tiers-Lieu – 13 rue sur Meuse \nVoir l’affiche
URL:https://saint-mihiel.fr/evenement/la-traviata/
LOCATION:Tiers lieu\, 13 rue sur Meuse\, SAINT-MIHIEL\, 55300\, France
END:VEVENT
END:VCALENDAR