BEGIN:VCALENDAR
VERSION:2.0
PRODID:-//Ville de Saint Mihiel - ECPv5.9.0//NONSGML v1.0//EN
CALSCALE:GREGORIAN
METHOD:PUBLISH
X-WR-CALNAME:Ville de Saint Mihiel
X-ORIGINAL-URL:https://saint-mihiel.fr
X-WR-CALDESC:évènements pour Ville de Saint Mihiel
BEGIN:VTIMEZONE
TZID:Europe/Paris
BEGIN:DAYLIGHT
TZOFFSETFROM:+0100
TZOFFSETTO:+0200
TZNAME:CEST
DTSTART:20260329T010000
END:DAYLIGHT
BEGIN:STANDARD
TZOFFSETFROM:+0200
TZOFFSETTO:+0100
TZNAME:CET
DTSTART:20261025T010000
END:STANDARD
END:VTIMEZONE
BEGIN:VEVENT
DTSTART;VALUE=DATE:20260308
DTEND;VALUE=DATE:20260309
DTSTAMP:20260424T185223
CREATED:20260220T124552Z
LAST-MODIFIED:20260220T142533Z
UID:48889-1772928000-1773014399@saint-mihiel.fr
SUMMARY:Lecture scénique
DESCRIPTION:Lecture scénique par Estelle Léopold \nUne proposition de L’Esperluette(&) – Des Chaises\, un Texte \n“Mémoires de la Femme à Barbe” de Clémentine Delait  – éditions Ce qu’il reste du Jour (Saint Mihiel\, 2025) \n“Oui je suis une femme et oui\, j’ai une barbe. Une belle barbe !” \nEntre la guerre de 1870 et la guerre de 1914\, Clémentine Delait\, native de Thaon-les-Vosges\, devient “la célèbre femme à barbe” et se produit partout en Europe\, avec un succès inouï. Une femme forte et affirmée\, puissante dirait-on aujourd’hui\, dans un récit autobiographique direct et touchant. \n> Dimanche 8 mars à 15h Salle Saint Michel\nParticipation libre \nCe rendez-vous propose d’assister à une répétition ouverte d’un travail artistique encore en cours.
URL:https://saint-mihiel.fr/evenement/lecture-scenique/
END:VEVENT
END:VCALENDAR