BEGIN:VCALENDAR
VERSION:2.0
PRODID:-//Ville de Saint Mihiel - ECPv5.9.0//NONSGML v1.0//EN
CALSCALE:GREGORIAN
METHOD:PUBLISH
X-WR-CALNAME:Ville de Saint Mihiel
X-ORIGINAL-URL:https://saint-mihiel.fr
X-WR-CALDESC:évènements pour Ville de Saint Mihiel
BEGIN:VTIMEZONE
TZID:Europe/Paris
BEGIN:DAYLIGHT
TZOFFSETFROM:+0100
TZOFFSETTO:+0200
TZNAME:CEST
DTSTART:20190331T010000
END:DAYLIGHT
BEGIN:STANDARD
TZOFFSETFROM:+0200
TZOFFSETTO:+0100
TZNAME:CET
DTSTART:20191027T010000
END:STANDARD
END:VTIMEZONE
BEGIN:VEVENT
DTSTART;TZID=Europe/Paris:20191026T080000
DTEND;TZID=Europe/Paris:20191026T140000
DTSTAMP:20260424T141030
CREATED:20191021T065300Z
LAST-MODIFIED:20191021T065344Z
UID:37130-1572076800-1572098400@saint-mihiel.fr
SUMMARY:Marché d'automne
DESCRIPTION:Marché d’automne place Bailleux le 26 octobre de 8h à 14h\nanimations : rempotage\, maquillage pour enfants et restauration sur place
URL:https://saint-mihiel.fr/evenement/marche-dautomne-3/
LOCATION:Place Jacques Bailleux\, Place Jacques Bailleux\, SAINT-MIHIEL
END:VEVENT
END:VCALENDAR