BEGIN:VCALENDAR
VERSION:2.0
PRODID:-//Ville de Saint Mihiel - ECPv5.9.0//NONSGML v1.0//EN
CALSCALE:GREGORIAN
METHOD:PUBLISH
X-WR-CALNAME:Ville de Saint Mihiel
X-ORIGINAL-URL:https://saint-mihiel.fr
X-WR-CALDESC:évènements pour Ville de Saint Mihiel
BEGIN:VTIMEZONE
TZID:Europe/Paris
BEGIN:DAYLIGHT
TZOFFSETFROM:+0100
TZOFFSETTO:+0200
TZNAME:CEST
DTSTART:20200329T010000
END:DAYLIGHT
BEGIN:STANDARD
TZOFFSETFROM:+0200
TZOFFSETTO:+0100
TZNAME:CET
DTSTART:20201025T010000
END:STANDARD
END:VTIMEZONE
BEGIN:VEVENT
DTSTART;VALUE=DATE:20200725
DTEND;VALUE=DATE:20200726
DTSTAMP:20260424T160315
CREATED:20200717T131421Z
LAST-MODIFIED:20200717T131421Z
UID:38178-1595635200-1595721599@saint-mihiel.fr
SUMMARY:Projet Ludo Lourdes 2020
DESCRIPTION:#Solidarité | Projet Lourdes Ludovic 2020 ‍♀️ \nL’association Rafael Lorraine (Rêves et activités en faveur des adolescents et enfants en lutte contre la maladie) a deux ambitions : faire rêver les enfants pour leur donner un moral et une énergie leur permettant de lutter contre la maladie ; et leur procurer des souvenirs inoubliables en leur organisant un événement\, une sortie ou une rencontre inespérée. \nC’est à travers ces ambitions que l’association Rafael Lorraine a souhaité réaliser le rêve de Ludovic ZUNINO\, jeune Sammiellois. En rémission d’un cancer\, Ludovic a exprimé un projet qui lui tient à cœur : se rendre à Lourdes en vélo. Passionné de vélo et très croyant\, Ludovic s’est donné comme objectif de réaliser les 1050 kilomètres qui séparent Saint-Mihiel et Lourdes en 17 jours. Accompagné par sa famille\, il réalisera 16 étapes jusqu’à la ville sainte. L’ensemble du parcours a été organisé par l’association qui réserve de belles surprises à la famille au cours du périple. \n\n➡️ Rendez-vous samedi 25 juillet à 9h place Jacques Bailleux (départ à 10h30) \nLes Sammiellois sont invités à parcourir les premiers kilomètres en vélo avec Ludovic  \nPORT DU MASQUE OBLIGATOIRE
URL:https://saint-mihiel.fr/evenement/projet-ludo-lourdes-2020/
LOCATION:Place Jacques Bailleux\, Place Jacques Bailleux\, SAINT-MIHIEL
END:VEVENT
END:VCALENDAR