BEGIN:VCALENDAR
VERSION:2.0
PRODID:-//Ville de Saint Mihiel - ECPv5.9.0//NONSGML v1.0//EN
CALSCALE:GREGORIAN
METHOD:PUBLISH
X-WR-CALNAME:Ville de Saint Mihiel
X-ORIGINAL-URL:https://saint-mihiel.fr
X-WR-CALDESC:évènements pour Ville de Saint Mihiel
BEGIN:VTIMEZONE
TZID:Europe/Paris
BEGIN:DAYLIGHT
TZOFFSETFROM:+0100
TZOFFSETTO:+0200
TZNAME:CEST
DTSTART:20250330T010000
END:DAYLIGHT
BEGIN:STANDARD
TZOFFSETFROM:+0200
TZOFFSETTO:+0100
TZNAME:CET
DTSTART:20251026T010000
END:STANDARD
END:VTIMEZONE
BEGIN:VEVENT
DTSTART;TZID=Europe/Paris:20251220T090000
DTEND;TZID=Europe/Paris:20251220T120000
DTSTAMP:20260425T011443
CREATED:20251217T105118Z
LAST-MODIFIED:20251217T105118Z
UID:48627-1766221200-1766232000@saint-mihiel.fr
SUMMARY:Séance de dédicaces avec Fabrice Gillant
DESCRIPTION:
URL:https://saint-mihiel.fr/evenement/seance-de-dedicaces-avec-fabrice-gillant/
END:VEVENT
END:VCALENDAR