BEGIN:VCALENDAR
VERSION:2.0
PRODID:-//Ville de Saint Mihiel - ECPv5.9.0//NONSGML v1.0//EN
CALSCALE:GREGORIAN
METHOD:PUBLISH
X-WR-CALNAME:Ville de Saint Mihiel
X-ORIGINAL-URL:https://saint-mihiel.fr
X-WR-CALDESC:évènements pour Ville de Saint Mihiel
BEGIN:VTIMEZONE
TZID:Europe/Paris
BEGIN:DAYLIGHT
TZOFFSETFROM:+0100
TZOFFSETTO:+0200
TZNAME:CEST
DTSTART:20260329T010000
END:DAYLIGHT
BEGIN:STANDARD
TZOFFSETFROM:+0200
TZOFFSETTO:+0100
TZNAME:CET
DTSTART:20261025T010000
END:STANDARD
END:VTIMEZONE
BEGIN:VEVENT
DTSTART;VALUE=DATE:20260404
DTEND;VALUE=DATE:20260405
DTSTAMP:20260424T190932
CREATED:20260216T124957Z
LAST-MODIFIED:20260216T131115Z
UID:48853-1775260800-1775347199@saint-mihiel.fr
SUMMARY:Texas Spirit en concert
DESCRIPTION:L’APEAC vous propose Texas Spirit en concert \nSamedi 4 avril à 20 h30\nEspace culturel des Avrils\nInvités : le groupe TEXAS SPIRIT : Quatuor impressionnant par son dynamisme autant musical que scénique vous fera découvrir les grands succès de southern rock et rock du sud des Etats Unis. Son répertoire rend hommage aux racines du rock sudiste\, englobant des influences blues\, country et rock des décennies passées. \nTarif : 10 €/ personne\, gratuit pour les jeunes – 18 ans et les élèves du conservatoire.
URL:https://saint-mihiel.fr/evenement/texas-spirit-en-concert/
END:VEVENT
END:VCALENDAR