BEGIN:VCALENDAR
VERSION:2.0
PRODID:-//Ville de Saint Mihiel - ECPv5.9.0//NONSGML v1.0//EN
CALSCALE:GREGORIAN
METHOD:PUBLISH
X-WR-CALNAME:Ville de Saint Mihiel
X-ORIGINAL-URL:https://saint-mihiel.fr
X-WR-CALDESC:évènements pour Ville de Saint Mihiel
BEGIN:VTIMEZONE
TZID:Europe/Paris
BEGIN:DAYLIGHT
TZOFFSETFROM:+0100
TZOFFSETTO:+0200
TZNAME:CEST
DTSTART:20190331T010000
END:DAYLIGHT
BEGIN:STANDARD
TZOFFSETFROM:+0200
TZOFFSETTO:+0100
TZNAME:CET
DTSTART:20191027T010000
END:STANDARD
END:VTIMEZONE
BEGIN:VEVENT
DTSTART;VALUE=DATE:20191121
DTEND;VALUE=DATE:20191124
DTSTAMP:20260424T141320
CREATED:20191115T073637Z
LAST-MODIFIED:20191115T073940Z
UID:37191-1574294400-1574553599@saint-mihiel.fr
SUMMARY:Universités d'hiver
DESCRIPTION:12èmes Universités d’hiver de Saint-Mihiel\nAprès le conflit\, un monde nouveau ? \n21-23 octobre\nVoir le programme
URL:https://saint-mihiel.fr/evenement/universites-dhiver-4/
END:VEVENT
END:VCALENDAR